BEGIN:VCALENDAR
VERSION:2.0
CALSCALE:GREGORIAN
PRODID:adamgibbons/ics
METHOD:PUBLISH
X-PUBLISHED-TTL:PT1H
BEGIN:VEVENT
UID:36@somvallfogona.cat
SUMMARY:SORTIDA A LA ERMITA DE PEDRA
DTSTAMP:20260421T124812Z
DTSTART:20261122T070000Z
DTEND:20261122T130000Z
URL:https://somvallfogona.cat/event/sortida-a-la-ermita-de-pedra
LOCATION:VALL D'AGER - VALL D'AGER
STATUS:CONFIRMED
CATEGORIES:SORTIDA CLUB EXCURSIONISTA
END:VEVENT
END:VCALENDAR
