BEGIN:VCALENDAR
VERSION:2.0
CALSCALE:GREGORIAN
PRODID:adamgibbons/ics
METHOD:PUBLISH
X-PUBLISHED-TTL:PT1H
BEGIN:VEVENT
UID:35@somvallfogona.cat
SUMMARY:SORTIDA CAP DE SETMANA\, SELVA DE IRATI (NAVARRA)
DTSTAMP:20260421T122627Z
DTSTART:20261023T060000Z
DTEND:20261024T180000Z
URL:https://somvallfogona.cat/event/sortida-cap-de-setmana-selva-de-irati-n
	avarra
LOCATION:SELVA DE IRATI - NAVARRA
STATUS:CONFIRMED
CATEGORIES:SORTIDA CLUB EXCURSIONISTA
END:VEVENT
END:VCALENDAR
