BEGIN:VCALENDAR
VERSION:2.0
CALSCALE:GREGORIAN
PRODID:adamgibbons/ics
METHOD:PUBLISH
X-PUBLISHED-TTL:PT1H
BEGIN:VEVENT
UID:34@somvallfogona.cat
SUMMARY:SORTIDA A LOS MALLOS DE RIGLOS (OSCA)
DTSTAMP:20260421T122606Z
DTSTART:20261004T050000Z
DTEND:20261004T170000Z
URL:https://somvallfogona.cat/event/sortida-a-los-mallos-de-riglos-osca
LOCATION:RIGLOS - RIGLOS
STATUS:CONFIRMED
CATEGORIES:SORTIDA CLUB EXCURSIONISTA
END:VEVENT
END:VCALENDAR
