BEGIN:VCALENDAR
VERSION:2.0
CALSCALE:GREGORIAN
PRODID:adamgibbons/ics
METHOD:PUBLISH
X-PUBLISHED-TTL:PT1H
BEGIN:VEVENT
UID:33@somvallfogona.cat
SUMMARY:SORTIDA A LA VALL DE BOI\, EMBASSAMENT DE CABALLERS
DTSTAMP:20260421T124301Z
DTSTART:20260628T050000Z
DTEND:20260628T170000Z
URL:https://somvallfogona.cat/event/sortida-a-la-vall-de-boi-embassament-de
	-caballers
LOCATION:VALL DE BOI - VALL DE BOI
STATUS:CONFIRMED
CATEGORIES:SORTIDA CLUB EXCURSIONISTA
END:VEVENT
END:VCALENDAR
