BEGIN:VCALENDAR
VERSION:2.0
CALSCALE:GREGORIAN
PRODID:adamgibbons/ics
METHOD:PUBLISH
X-PUBLISHED-TTL:PT1H
BEGIN:VEVENT
UID:32@somvallfogona.cat
SUMMARY:SORTIDA A PRADES
DTSTAMP:20260421T123153Z
DTSTART:20260524T060000Z
DTEND:20260524T150000Z
URL:https://somvallfogona.cat/event/sortida-a-prades
LOCATION:PRADES - PRADES
STATUS:CONFIRMED
CATEGORIES:SORTIDA CLUB EXCURSIONISTA
END:VEVENT
END:VCALENDAR
