BEGIN:VCALENDAR
VERSION:2.0
CALSCALE:GREGORIAN
PRODID:adamgibbons/ics
METHOD:PUBLISH
X-PUBLISHED-TTL:PT1H
BEGIN:VEVENT
UID:31@somvallfogona.cat
SUMMARY:SORTIDA A LA SEGARRA I ELS SEUS CASTELLS
DTSTAMP:20260421T123418Z
DTSTART:20260426T060000Z
DTEND:20260426T130000Z
URL:https://somvallfogona.cat/event/sortida-a-la-segarra-i-els-seus-castell
	s
LOCATION:COMARCA DE LA SEGARRA - COMARCA DE LA SEGARRA
STATUS:CONFIRMED
CATEGORIES:SORTIDA CLUB EXCURSIONISTA
END:VEVENT
END:VCALENDAR
