BEGIN:VCALENDAR
VERSION:2.0
CALSCALE:GREGORIAN
PRODID:adamgibbons/ics
METHOD:PUBLISH
X-PUBLISHED-TTL:PT1H
BEGIN:VEVENT
UID:77@somvallfogona.cat
SUMMARY:Trobada grup de lectura LLETRACONTENTS
DTSTAMP:20260421T124437Z
DTSTART:20260422T180000Z
DTEND:20260422T190000Z
DESCRIPTION:Comentarem el llibre que hem llegit aquest mes: Cims borrascose
	s de l'Emili\nBrontë..tot un clàssic...reeditat en pelicula aquest any.\n\
	nProposta lectura propera...va.de [http://va.de].poesia..\n\nJOAN MARGARIT
	 en el cinqué any de la seva mort.\n\nSi no ens veiem que gaudiu molt de S
	ant Jordi!!!!
URL:https://somvallfogona.cat/event/trobada-grup-de-lectura-lletracontents
GEO:41.7524181;0.8156682
LOCATION:Ajuntament de Vallfogona - 29\, Carrer Major\, Vallfogona de Balag
	uer\, Noguera\, Catalunya\, 25680\, España
STATUS:CONFIRMED
CATEGORIES:
X-ALT-DESC;FMTTYPE=text/html:<p><strong>Comentarem el llibre que hem llegit
	 aquest mes: Cims borrascoses de l'Emili Brontë..tot un clàssic...reeditat
	 en pelicula aquest any.</strong></p><p>Proposta lectura propera...<a targ
	et="_blank" href="http://va.de">va.de</a>.poesia..</p><p>JOAN MARGARIT en 
	el cinqué any de la seva mort.</p><p>Si no ens veiem que gaudiu molt de Sa
	nt Jordi!!!!</p>
BEGIN:VALARM
ACTION:DISPLAY
DESCRIPTION:Trobada grup de lectura LLETRACONTENTS
TRIGGER:-PT1H
END:VALARM
END:VEVENT
END:VCALENDAR
